BEGIN:VCALENDAR
VERSION:2.0
PRODID:-//wp-events-plugin.com//7.2.3.1//EN
TZID:America/Vancouver
X-WR-TIMEZONE:America/Vancouver
BEGIN:VEVENT
UID:6-752@nrgcbc.ca
DTSTART;TZID=America/Vancouver;VALUE=DATE:20170603
DTEND;TZID=America/Vancouver;VALUE=DATE:20170605
DTSTAMP:20170302T075847Z
URL:http://www.nrgcbc.ca/archery/events/3d-archery-shoot-2017/
SUMMARY:3D Archery Shoot 2017
DESCRIPTION:3D archery shoot\, June 3rd\, and 4th at the Barrett Creek\, Ne
 lson District Rod And Gun Club outdoor range.\n\nCategories for hunting\, 
 traditional\, and crossbows.  Dry camping available on-site.  A family fri
 endly event.\n\nCall or email Darcy Lutz for further details.  +1 250 354 
 7241\, d2lutz@telus.net.
CATEGORIES:public,Outdoor Range,archery
LOCATION:Outdoor Range\, Porto Rico Road\, Ymir\, Canada
GEO:49.33055288813148;-117.24825703933107
X-APPLE-STRUCTURED-LOCATION;VALUE=URI;X-ADDRESS=Porto Rico Road\, Ymir\, Ca
 nada;X-APPLE-RADIUS=100;X-TITLE=Outdoor Range:geo:49.33055288813148,-117.2
 4825703933107
END:VEVENT
BEGIN:VTIMEZONE
TZID:America/Vancouver
X-LIC-LOCATION:America/Vancouver
BEGIN:DAYLIGHT
DTSTART:20170312T030000
TZOFFSETFROM:-0800
TZOFFSETTO:-0700
TZNAME:PDT
END:DAYLIGHT
END:VTIMEZONE
END:VCALENDAR