BEGIN:VCALENDAR
VERSION:2.0
PRODID:-//wp-events-plugin.com//7.2.3.1//EN
TZID:America/Vancouver
X-WR-TIMEZONE:America/Vancouver
BEGIN:VEVENT
UID:3-751@nrgcbc.ca
DTSTART;TZID=America/Vancouver;VALUE=DATE:20170422
DTEND;TZID=America/Vancouver;VALUE=DATE:20170423
DTSTAMP:20170302T075540Z
URL:http://www.nrgcbc.ca/outdoorrange/events/2017-outdoor-range-spring-cle
 anup-and-bbq/
SUMMARY:2017 Outdoor Range Spring Cleanup and BBQ
DESCRIPTION:Please see the following post for further details:\n\nhttp://ww
 w.nrgcbc.ca/blog/2017-outdoor-range-spring-clean-up-and-bbq/
LOCATION:NRGCBC Outdoor Range\, Porto Rico Rd\, Ymir\, British Columbia\, C
 anada
GEO:49.330402;-117.248123
X-APPLE-STRUCTURED-LOCATION;VALUE=URI;X-ADDRESS=Porto Rico Rd\, Ymir\, Brit
 ish Columbia\, Canada;X-APPLE-RADIUS=100;X-TITLE=NRGCBC Outdoor Range:geo:
 49.330402,-117.248123
END:VEVENT
BEGIN:VTIMEZONE
TZID:America/Vancouver
X-LIC-LOCATION:America/Vancouver
BEGIN:DAYLIGHT
DTSTART:20170312T030000
TZOFFSETFROM:-0800
TZOFFSETTO:-0700
TZNAME:PDT
END:DAYLIGHT
END:VTIMEZONE
END:VCALENDAR