BEGIN:VCALENDAR
VERSION:2.0
PRODID:-//wp-events-plugin.com//7.2.3.1//EN
TZID:America/Vancouver
X-WR-TIMEZONE:America/Vancouver
BEGIN:VEVENT
UID:3-742@nrgcbc.ca
DTSTART;TZID=America/Vancouver:20160820T090000
DTEND;TZID=America/Vancouver:20160820T150000
DTSTAMP:20160720T205744Z
URL:http://www.nrgcbc.ca/outdoorrange/events/303-british-rifle-heritage-ma
 tch/
SUMMARY:.303 British Rifle Heritage Match
DESCRIPTION:An all day shoot with historic roots. Cups\, trophies and shiel
 d date from 1910 – 14 era. Ranges are 100 yd.\, 200 yd. to 300 yd. Winne
 rs will have their names added to such treasures as the Annable Cup\,the H
 ome Loan Trophy\, the Range Master\, the Tramway Cup or the Nelson City Ch
 allenge Shield (three member teams).\n\nSaturday\, August 20th\, 2016 9AM 
 @ Barrett Creek Range\n( 25 km south of Nelson BC on Porto Rico Road )\nEn
 try fee $35\, includes lunch — Spectator lunch –$10\n\nFor further det
 ails\, please contact Bob Vliet.  +1 250 357 9309 rgvliet@telus.net
CATEGORIES:Outdoor Range
LOCATION:Outdoor Range\, Porto Rico Road\, Ymir\, Canada
GEO:49.33055288813148;-117.24825703933107
X-APPLE-STRUCTURED-LOCATION;VALUE=URI;X-ADDRESS=Porto Rico Road\, Ymir\, Ca
 nada;X-APPLE-RADIUS=100;X-TITLE=Outdoor Range:geo:49.33055288813148,-117.2
 4825703933107
END:VEVENT
BEGIN:VTIMEZONE
TZID:America/Vancouver
X-LIC-LOCATION:America/Vancouver
BEGIN:DAYLIGHT
DTSTART:20160313T030000
TZOFFSETFROM:-0800
TZOFFSETTO:-0700
TZNAME:PDT
END:DAYLIGHT
END:VTIMEZONE
END:VCALENDAR