BEGIN:VCALENDAR
VERSION:2.0
PRODID:-//wp-events-plugin.com//7.2.3.1//EN
TZID:America/Vancouver
X-WR-TIMEZONE:America/Vancouver
BEGIN:VEVENT
UID:3-741@nrgcbc.ca
DTSTART;TZID=America/Vancouver;VALUE=DATE:20160806
DTEND;TZID=America/Vancouver;VALUE=DATE:20160808
DTSTAMP:20160720T205303Z
URL:http://www.nrgcbc.ca/outdoorrange/events/turkey-shoot-and-annual-sight
 -in-days/
SUMMARY:Turkey Shoot and Annual Sight-In Days
DESCRIPTION:Please join us for a Turkey Shoot and Annual Public Sight-In Da
 ys.\n\nInformal fun shoots will be held throughout the day for members and
  the public who choose to attend.  Prizes will be awarded for each match h
 eld.  \n\nA concession stand will be available throughout both days with f
 ood and treats available.  \n\nMembers and the public are welcome.  Please
  come join us for the fun\, and get your hunting rifles sighted too.  \n\n
 Members\, are encouraged to seek out non-members who may wish to attend th
 is fun event as well.
LOCATION:NRGCBC Outdoor Range\, Porto Rico Rd\, Ymir\, British Columbia\, C
 anada
GEO:49.330402;-117.248123
X-APPLE-STRUCTURED-LOCATION;VALUE=URI;X-ADDRESS=Porto Rico Rd\, Ymir\, Brit
 ish Columbia\, Canada;X-APPLE-RADIUS=100;X-TITLE=NRGCBC Outdoor Range:geo:
 49.330402,-117.248123
END:VEVENT
BEGIN:VTIMEZONE
TZID:America/Vancouver
X-LIC-LOCATION:America/Vancouver
BEGIN:DAYLIGHT
DTSTART:20160313T030000
TZOFFSETFROM:-0800
TZOFFSETTO:-0700
TZNAME:PDT
END:DAYLIGHT
END:VTIMEZONE
END:VCALENDAR